BEGIN:VCALENDAR
VERSION:2.0
PRODID:-//Dartmouth-Hitchcock Nursing Careers - ECPv6.15.18//NONSGML v1.0//EN
CALSCALE:GREGORIAN
METHOD:PUBLISH
X-WR-CALNAME:Dartmouth-Hitchcock Nursing Careers
X-ORIGINAL-URL:https://dhnursing.org
X-WR-CALDESC:Events for Dartmouth-Hitchcock Nursing Careers
REFRESH-INTERVAL;VALUE=DURATION:PT1H
X-Robots-Tag:noindex
X-PUBLISHED-TTL:PT1H
BEGIN:VTIMEZONE
TZID:UTC
BEGIN:STANDARD
TZOFFSETFROM:+0000
TZOFFSETTO:+0000
TZNAME:UTC
DTSTART:20250101T000000
END:STANDARD
END:VTIMEZONE
BEGIN:VEVENT
DTSTART;VALUE=DATE:20260428
DTEND;VALUE=DATE:20260430
DTSTAMP:20260423T143939
CREATED:20260319T190524Z
LAST-MODIFIED:20260319T190524Z
UID:38002-1777334400-1777507199@dhnursing.org
SUMMARY:Connecticut Society for Respiratory Care (CTSRC)
DESCRIPTION:April 28-29 at the Bristol Event Center\, Bristol\, CT. \nCome visit our booth and check out the exciting opportunities available! \n 
URL:https://dhnursing.org/event/connecticut-society-for-respiratory-care-ctsrc/
END:VEVENT
BEGIN:VEVENT
DTSTART;VALUE=DATE:20260428
DTEND;VALUE=DATE:20260501
DTSTAMP:20260423T143939
CREATED:20260319T191145Z
LAST-MODIFIED:20260319T191145Z
UID:38005-1777334400-1777593599@dhnursing.org
SUMMARY:California Society for Respiratory Care Conference
DESCRIPTION:April 28-30 at the Pechanga Resort Casino\, Temecula\, CA. \nDrop by our booth and discover what opportunities await you!
URL:https://dhnursing.org/event/california-society-for-respiratory-care-conference/
END:VEVENT
END:VCALENDAR