BEGIN:VCALENDAR
VERSION:2.0
PRODID:-//Dartmouth-Hitchcock Nursing Careers - ECPv6.15.18//NONSGML v1.0//EN
CALSCALE:GREGORIAN
METHOD:PUBLISH
X-ORIGINAL-URL:https://dhnursing.org
X-WR-CALDESC:Events for Dartmouth-Hitchcock Nursing Careers
REFRESH-INTERVAL;VALUE=DURATION:PT1H
X-Robots-Tag:noindex
X-PUBLISHED-TTL:PT1H
BEGIN:VTIMEZONE
TZID:UTC
BEGIN:STANDARD
TZOFFSETFROM:+0000
TZOFFSETTO:+0000
TZNAME:UTC
DTSTART:20250101T000000
END:STANDARD
END:VTIMEZONE
BEGIN:VEVENT
DTSTART;VALUE=DATE:20260513
DTEND;VALUE=DATE:20260518
DTSTAMP:20260423T155013
CREATED:20260319T191402Z
LAST-MODIFIED:20260319T191402Z
UID:38006-1778630400-1779062399@dhnursing.org
SUMMARY:Oncology Nursing Society (ONS) Congress
DESCRIPTION:May 13-17 at the Henry B. González Convention Center\, San Antonio\, TX. \nWe’d love for you to visit our booth and learn about our opportunities!
URL:https://dhnursing.org/event/oncology-nursing-society-ons-congress/
END:VEVENT
END:VCALENDAR