BEGIN:VCALENDAR
VERSION:2.0
PRODID:-//Dartmouth-Hitchcock Nursing Careers - ECPv6.15.18//NONSGML v1.0//EN
CALSCALE:GREGORIAN
METHOD:PUBLISH
X-ORIGINAL-URL:https://dhnursing.org
X-WR-CALDESC:Events for Dartmouth-Hitchcock Nursing Careers
REFRESH-INTERVAL;VALUE=DURATION:PT1H
X-Robots-Tag:noindex
X-PUBLISHED-TTL:PT1H
BEGIN:VTIMEZONE
TZID:UTC
BEGIN:STANDARD
TZOFFSETFROM:+0000
TZOFFSETTO:+0000
TZNAME:UTC
DTSTART:20250101T000000
END:STANDARD
END:VTIMEZONE
BEGIN:VEVENT
DTSTART;VALUE=DATE:20261114
DTEND;VALUE=DATE:20261118
DTSTAMP:20260423T210242
CREATED:20260319T191924Z
LAST-MODIFIED:20260319T191924Z
UID:38009-1794614400-1794959999@dhnursing.org
SUMMARY:AARC International Congress
DESCRIPTION:November 14-17 at the New Orleans Convention Center\, New Orleans\, LA. \nHead over to our booth and see what opportunities are waiting for you!
URL:https://dhnursing.org/event/aarc-international-congress/
END:VEVENT
END:VCALENDAR