BEGIN:VCALENDAR
VERSION:2.0
PRODID:-//Dartmouth-Hitchcock Nursing Careers - ECPv6.15.18//NONSGML v1.0//EN
CALSCALE:GREGORIAN
METHOD:PUBLISH
X-WR-CALNAME:Dartmouth-Hitchcock Nursing Careers
X-ORIGINAL-URL:https://dhnursing.org
X-WR-CALDESC:Events for Dartmouth-Hitchcock Nursing Careers
REFRESH-INTERVAL;VALUE=DURATION:PT1H
X-Robots-Tag:noindex
X-PUBLISHED-TTL:PT1H
BEGIN:VTIMEZONE
TZID:UTC
BEGIN:STANDARD
TZOFFSETFROM:+0000
TZOFFSETTO:+0000
TZNAME:UTC
DTSTART:20250101T000000
END:STANDARD
END:VTIMEZONE
BEGIN:VEVENT
DTSTART;TZID=UTC:20260319T080000
DTEND;TZID=UTC:20260319T170000
DTSTAMP:20260423T141742
CREATED:20260319T190234Z
LAST-MODIFIED:20260319T190234Z
UID:38001-1773907200-1773939600@dhnursing.org
SUMMARY:National Association of Neonatal Nurses (NANN) Annual Conference
DESCRIPTION:April 27-28 – at the Omni Mount Washington Resort and Spa\, Bretton Woods\, NH. \nBe sure to drop in at our booth and see what we have to offer!
URL:https://dhnursing.org/event/national-association-of-neonatal-nurses-nann-annual-conference/
END:VEVENT
BEGIN:VEVENT
DTSTART;VALUE=DATE:20260326
DTEND;VALUE=DATE:20260329
DTSTAMP:20260423T141742
CREATED:20260319T184757Z
LAST-MODIFIED:20260319T185420Z
UID:37996-1774483200-1774742399@dhnursing.org
SUMMARY:American Nursing Informatics Association (ANIA) Annual Conference
DESCRIPTION:March 26-28 at the Boston Sheraton Hotel\, Boston\, MA. \nDon’t forget to visit our booth and explore the opportunities we offer!
URL:https://dhnursing.org/event/american-nursing-informatics-association-annual-conference/
END:VEVENT
END:VCALENDAR